BEGIN:VCALENDAR
VERSION:2.0
PRODID:-//ChamberMaster//Event Calendar 2.0//EN
METHOD:PUBLISH
X-PUBLISHED-TTL:P3D
REFRESH-INTERVAL:P3D
CALSCALE:GREGORIAN
BEGIN:VEVENT
DTSTART:19990408T050000Z
DTEND:19990408T050000Z
X-MICROSOFT-CDO-ALLDAYEVENT:FALSE
SUMMARY:Industrial Tour of Viking Coca Cola
DESCRIPTION:Industrial Tour of Viking Coca Cola
X-ALT-DESC;FMTTYPE=text/html:Industrial Tour of Viking Coca Cola
LOCATION:
UID:e.2754.2315
SEQUENCE:3
DTSTAMP:20260421T084759Z
URL:https://chambermaster.businesscentralmagazine.com/events/details/industrial-tour-of-viking-coca-cola-04-08-1999-2315
END:VEVENT

END:VCALENDAR
