BEGIN:VCALENDAR
VERSION:2.0
PRODID:-//ChamberMaster//Event Calendar 2.0//EN
METHOD:PUBLISH
X-PUBLISHED-TTL:P3D
REFRESH-INTERVAL:P3D
CALSCALE:GREGORIAN
BEGIN:VEVENT
DTSTART:19981112T060000Z
DTEND:19981112T060000Z
X-MICROSOFT-CDO-ALLDAYEVENT:FALSE
SUMMARY:Industrial Tour of St. Cloud Wastewater Treatment Plant
DESCRIPTION:Industrial Tour of St. Cloud Wastewater Treatment Plant
X-ALT-DESC;FMTTYPE=text/html:Industrial Tour of St. Cloud Wastewater Treatment Plant
LOCATION:
UID:e.2754.2310
SEQUENCE:3
DTSTAMP:20260419T185827Z
URL:https://chambermaster.businesscentralmagazine.com/events/details/industrial-tour-of-st-cloud-wastewater-treatment-plant-11-12-1998-2310
END:VEVENT

END:VCALENDAR
