BEGIN:VCALENDAR
VERSION:2.0
PRODID:-//ChamberMaster//Event Calendar 2.0//EN
METHOD:PUBLISH
X-PUBLISHED-TTL:P3D
REFRESH-INTERVAL:P3D
CALSCALE:GREGORIAN
BEGIN:VEVENT
DTSTART:19971113T060000Z
DTEND:19971113T060000Z
X-MICROSOFT-CDO-ALLDAYEVENT:FALSE
SUMMARY:Industrial Tour of St. Cloud Refrigeration 11/13/97
DESCRIPTION:Industrial Tour of St. Cloud Refrigeration 11/13/97
X-ALT-DESC;FMTTYPE=text/html:Industrial Tour of St. Cloud Refrigeration 11/13/97
LOCATION:
UID:e.2754.2261
SEQUENCE:3
DTSTAMP:20260422T133619Z
URL:https://chambermaster.businesscentralmagazine.com/events/details/industrial-tour-of-st-cloud-refrigeration-11-13-97-11-13-1997-2261
END:VEVENT

END:VCALENDAR
