BEGIN:VCALENDAR
VERSION:2.0
PRODID:-//ChamberMaster//Event Calendar 2.0//EN
METHOD:PUBLISH
X-PUBLISHED-TTL:P3D
REFRESH-INTERVAL:P3D
CALSCALE:GREGORIAN
BEGIN:VEVENT
DTSTART;VALUE=DATE:19990211
DTEND;VALUE=DATE:19990212
TRANSP:TRANSPARENT
X-MICROSOFT-CDO-ALLDAYEVENT:TRUE
SUMMARY:Industrial Tour of G&K Services
DESCRIPTION:
X-ALT-DESC;FMTTYPE=text/html:
LOCATION:
UID:e.2754.622
SEQUENCE:3
DTSTAMP:20260419T144526Z
URL:https://chambermaster.businesscentralmagazine.com/events/details/industrial-tour-of-g-k-services-02-11-1999-622
END:VEVENT

END:VCALENDAR
