BEGIN:VCALENDAR
VERSION:2.0
PRODID:-//ChamberMaster//Event Calendar 2.0//EN
METHOD:PUBLISH
X-PUBLISHED-TTL:P3D
REFRESH-INTERVAL:P3D
CALSCALE:GREGORIAN
BEGIN:VEVENT
DTSTART:19990114T060000Z
DTEND:19990114T060000Z
X-MICROSOFT-CDO-ALLDAYEVENT:FALSE
SUMMARY:Industrial Tour of Design Line Cabinets
DESCRIPTION:Industrial Tour of Design Line Cabinets
X-ALT-DESC;FMTTYPE=text/html:Industrial Tour of Design Line Cabinets
LOCATION:
UID:e.2754.2312
SEQUENCE:3
DTSTAMP:20260419T161930Z
URL:https://chambermaster.businesscentralmagazine.com/events/details/industrial-tour-of-design-line-cabinets-01-14-1999-2312
END:VEVENT

END:VCALENDAR
