BEGIN:VCALENDAR
VERSION:2.0
PRODID:-//ChamberMaster//Event Calendar 2.0//EN
METHOD:PUBLISH
X-PUBLISHED-TTL:P3D
REFRESH-INTERVAL:P3D
CALSCALE:GREGORIAN
BEGIN:VEVENT
DTSTART:19981008T050000Z
DTEND:19981008T050000Z
X-MICROSOFT-CDO-ALLDAYEVENT:FALSE
SUMMARY:Industrial Tour of Borgert Products
DESCRIPTION:Industrial Tour of Borgert Products
X-ALT-DESC;FMTTYPE=text/html:Industrial Tour of Borgert Products
LOCATION:
UID:e.2754.2309
SEQUENCE:3
DTSTAMP:20260419T201838Z
URL:https://chambermaster.businesscentralmagazine.com/events/details/industrial-tour-of-borgert-products-10-08-1998-2309
END:VEVENT

END:VCALENDAR
