BEGIN:VCALENDAR
VERSION:2.0
PRODID:-//ChamberMaster//Event Calendar 2.0//EN
METHOD:PUBLISH
X-PUBLISHED-TTL:P3D
REFRESH-INTERVAL:P3D
CALSCALE:GREGORIAN
BEGIN:VEVENT
DTSTART:20250423T170000Z
DTEND:20250423T200000Z
X-MICROSOFT-CDO-ALLDAYEVENT:FALSE
SUMMARY:Huskies Job & Internship Fair
DESCRIPTION:Huskies Job & Internship Fair\n\n\n\nWednesday\, April 23\n\n12:00 PM - 3:00 PM\n\nAtwood Memorial Center\n\nSt. Cloud State University\n\n\n\nThe Huskies Job & Internship Fair gives employers direct\, targeted access to talented St. Cloud State University students pursuing degrees in a variety of majors. Attending employers have the opportunity to find talent for part time\, full time\, and/or internship positions!\n\n \n\nThe registration deadline is Wednesday\, April 9\, 2025. Registration after this date is subject to availability and a $50 late fee.\n\n \nEmployers from any industry are invited to attend. For more information on St. Cloud State University and its students\, click here.\n\nAGENDA\n\n\n9:30 am-11:30 am:  Check-in begins - Ballroom\, Atwood Memorial Center \n\n11:00 am-12:00 pm: Casual Lunch in Glacier Room\, Atwood Memorial Center \n\n12:00 pm - 3:00 pm: Huskies Job & Internship Fair - Ballroom\, Atwood Memorial Center \n\n \n\n\nSchedule your on-campus interview when you register for the fair!\n\n \n\nBenefits of on-campus interviews:\n\n\n\n	Free and convenient. By using Handshake\, you can save yourself time as you'll no longer need to contact candidates individually to notify them of their selection or schedule interview times.\n	Generate more candidates. On-Campus interviews are heavily promoted to students and faculty so employers conducting on campus interviews typically generate 2-10 times as many applicants as compared to those not interviewing on campus.\n	Increase name recognition with students. Due to our ability to promote on campus interviews\, employers selecting this option receive a great deal more recognition with both students and faculty.\n	Access to the Career Center & Employer Relations staff for guidance and support.\n	Ability to interview multiple candidates in one day.\n\n\n\n\nQuestions?\n\n\n\n\nContact Shantelle Kane\, Associate Director\, Employer Relations at shantelle.kane@stcloudstate.edu or 320-308-0070.\n\n\n\n\n\n\n \n\n\n\n\n\nLEARN MORE
X-ALT-DESC;FMTTYPE=text/html:<h1 style="text-align:center !important">&nbsp\;</h1>\n<strong>Huskies Job &amp\; Internship Fair</strong><br />\n<br />\nWednesday\, April 23<br />\n12:00 PM - 3:00 PM<br />\nAtwood Memorial Center<br />\nSt. Cloud State University<br />\n<br />\n<span style="color:rgba(0\, 0\, 0\, 0.8)\; font-family:suisse intl\,-apple-system\,blinkmacsystemfont\,segoe ui\,roboto\,helvetica neue\,sans-serif">The Huskies Job &amp\; Internship Fair gives employers direct\, targeted access to talented St. Cloud State University students pursuing degrees in a variety of majors. Attending employers have the opportunity to find talent for part time\, full time\, and/or internship positions!</span>\n\n<div>&nbsp\;</div>\n\n<div>The registration deadline is Wednesday\, April 9\, 2025. Registration after this date is subject to availability and a $50 late fee.</div>\n\n<div>&nbsp\;</div>\n<span style="color:rgba(0\, 0\, 0\, 0.8)\; font-family:suisse intl\,-apple-system\,blinkmacsystemfont\,segoe ui\,roboto\,helvetica neue\,sans-serif">Employers from any industry are invited to attend. For more information on St. Cloud State University and its students\,&nbsp\;</span><a href="https://www.stcloudstate.edu/about/default.aspx" rel="nofollow" style="box-sizing: border-box\; color: rgb(21\, 105\, 224)\; text-decoration-line: none\; font-family: &quot\;Suisse Int'l&quot\;\, -apple-system\, BlinkMacSystemFont\, &quot\;Segoe UI&quot\;\, Roboto\, &quot\;Helvetica Neue&quot\;\, sans-serif\;" target="_blank">click here.</a>\n\n<div style="text-align:center !important"><strong><u>AGENDA</u></strong></div>\n<br />\n<strong>9:30 am-11:30 am:</strong><span style="color:rgba(0\, 0\, 0\, 0.8)\; font-family:suisse intl\,-apple-system\,blinkmacsystemfont\,segoe ui\,roboto\,helvetica neue\,sans-serif">&emsp\;&nbsp\;</span><strong>Check-in begins - Ballroom\, Atwood Memorial Center&nbsp\;</strong>\n\n<div><strong>11:00 am-12:00 pm:</strong>&emsp\;<strong>Casual Lunch in Glacier Room\, Atwood Memorial Center&nbsp\;</strong><br />\n<strong>12:00 pm - 3:00 pm:</strong>&emsp\;<strong>Huskies Job &amp\; Internship&nbsp\;Fair - B</strong><strong>allroom\, Atwood Memorial Center&nbsp\;</strong></div>\n\n<div>&nbsp\;</div>\n\n<div>\n<div><strong><a href="https://support.joinhandshake.com/hc/en-us/articles/225537148-How-to-Request-an-Interview-Schedule-at-a-School" rel="nofollow" style="box-sizing: border-box\; background-color: transparent\; color: rgb(21\, 105\, 224)\; text-decoration-line: none\;" target="_blank">Schedule your on-campus interview</a>&nbsp\;when you register for the fair!</strong>\n\n<div>&nbsp\;</div>\n\n<div><strong><u>Benefits of on-campus interviews:</u></strong></div>\n\n<div>\n<ul>\n	<li><strong>Free and convenient.</strong>&nbsp\;By using Handshake\, you can save yourself time as you&#39\;ll no longer need to contact candidates individually to notify them of their selection or schedule interview times.</li>\n	<li><strong>Generate more candidates.&nbsp\;</strong>On-Campus interviews are heavily promoted to students and faculty so employers conducting on campus interviews typically generate 2-10 times as many applicants as compared to those not interviewing on campus.</li>\n	<li><strong>Increase name recognition with students.</strong>&nbsp\;Due to our ability to promote on campus interviews\, employers selecting this option receive a great deal more recognition with both students and faculty.</li>\n	<li><strong>Access to the Career Cente</strong>r &amp\; Employer Relations staff for guidance and support.</li>\n	<li>Ability to interview multiple candidates in one day.</li>\n</ul>\n</div>\n</div>\n</div>\n<strong>Questions?</strong>\n\n<div>\n<div>\n<div>\n<div>Contact Shantelle Kane\, Associate Director\, Employer Relations at shantelle.kane@stcloudstate.edu or 320-308-0070.</div>\n</div>\n</div>\n</div>\n\n<div>\n<div>\n<div>&nbsp\;</div>\n</div>\n</div>\n\n<div>\n<div>\n<div><a href="https://app.joinhandshake.com/career_fairs/e3b0e43a-966f-4420-8662-98345870ca7f/employer_preview"><strong>LEARN MORE</strong></a></div>\n</div>\n</div>\n\n<div>&nbsp\;</div>\n
LOCATION:Atwood Memorial Center St. Cloud State University 651 1st Ave S\, St Cloud\, MN 56301
UID:e.2754.11470
SEQUENCE:3
DTSTAMP:20260423T065135Z
URL:https://chambermaster.businesscentralmagazine.com/events/details/huskies-job-internship-fair-11470
END:VEVENT

END:VCALENDAR
