BEGIN:VCALENDAR
VERSION:2.0
PRODID:-//ChamberMaster//Event Calendar 2.0//EN
METHOD:PUBLISH
X-PUBLISHED-TTL:P3D
REFRESH-INTERVAL:P3D
CALSCALE:GREGORIAN
BEGIN:VEVENT
DTSTART;VALUE=DATE:19961111
DTEND;VALUE=DATE:19961112
TRANSP:TRANSPARENT
X-MICROSOFT-CDO-ALLDAYEVENT:TRUE
SUMMARY:How to Save Money on Workers' Comp
DESCRIPTION:
X-ALT-DESC;FMTTYPE=text/html:
LOCATION:Holiday Inn
UID:e.2754.534
SEQUENCE:3
DTSTAMP:20260423T074057Z
URL:https://chambermaster.businesscentralmagazine.com/events/details/how-to-save-money-on-workers-comp-11-11-1996-534
END:VEVENT

END:VCALENDAR
