BEGIN:VCALENDAR
VERSION:2.0
PRODID:-//ChamberMaster//Event Calendar 2.0//EN
METHOD:PUBLISH
X-PUBLISHED-TTL:P3D
REFRESH-INTERVAL:P3D
CALSCALE:GREGORIAN
BEGIN:VEVENT
DTSTART:20250320T230000Z
DTEND:20250321T010000Z
X-MICROSOFT-CDO-ALLDAYEVENT:FALSE
SUMMARY:Hops & History: A Brief History of Stearns County Scams
DESCRIPTION:Join Caitlin and Grant from the museum as they talk about the background of some of the most infamous scams in Stearns County history\, including everything from Samuel Pandolfo's mail fraud to the architect behind one of the biggest Ponzi schemes in the history of the United States. And that's not all! There are some scams and scandals you may not have heard of- but you will!
X-ALT-DESC;FMTTYPE=text/html:<span style="color:rgb(8\, 8\, 9)\; font-family:segoe ui historic\,segoe ui\,helvetica\,arial\,sans-serif\; font-size:15px">Join Caitlin and Grant from the museum as they talk about the background of some of the most infamous scams in Stearns County history\, including everything from Samuel Pandolfo&rsquo\;s mail fraud to the architect behind one of the biggest Ponzi schemes in the history of the United States. And that&rsquo\;s not all! There are some scams and scandals you may not have heard of- but you will!</span>
LOCATION:Bad Habit Brewing Company\, St. Joseph\, MN
UID:e.2754.11452
SEQUENCE:3
DTSTAMP:20260423T071303Z
URL:https://chambermaster.businesscentralmagazine.com/events/details/hops-history-a-brief-history-of-stearns-county-scams-11452
END:VEVENT

END:VCALENDAR
