BEGIN:VCALENDAR
VERSION:2.0
PRODID:-//ChamberMaster//Event Calendar 2.0//EN
METHOD:PUBLISH
X-PUBLISHED-TTL:P3D
REFRESH-INTERVAL:P3D
CALSCALE:GREGORIAN
BEGIN:VEVENT
DTSTART:20251205T200000Z
DTEND:20251205T220000Z
X-MICROSOFT-CDO-ALLDAYEVENT:FALSE
SUMMARY:Holiday Fashion Show
DESCRIPTION:CELEBRATE T H E SEASON AT STERLING PARK\n\n\n\nJoin us for an afternoon of fashion\, fun\, and holiday cheer as our residents and team members take to the runway to showcase beautiful looks from Cabi Clothing! Enjoy festive music\, light refreshments\, and a photobooth hosted by Moments Hospice.
X-ALT-DESC;FMTTYPE=text/html:CELEBRATE T H E SEASON AT STERLING PARK<br />\n<br />\nJoin us for an afternoon of fashion\, fun\, and holiday cheer as our residents and team members take to the runway to showcase beautiful looks from Cabi Clothing! Enjoy festive music\, light refreshments\, and a photobooth hosted by Moments Hospice.
LOCATION:Sterling Park Assisted & Independent Living 35 1st Ave N Waite Park\, MN 56387 First Floor in the Coffee Shop
UID:e.2754.12406
SEQUENCE:3
DTSTAMP:20260422T135821Z
URL:https://chambermaster.businesscentralmagazine.com/events/details/holiday-fashion-show-12406
END:VEVENT

END:VCALENDAR
