BEGIN:VCALENDAR
VERSION:2.0
PRODID:-//ChamberMaster//Event Calendar 2.0//EN
METHOD:PUBLISH
X-PUBLISHED-TTL:P3D
REFRESH-INTERVAL:P3D
CALSCALE:GREGORIAN
BEGIN:VEVENT
DTSTART:20251212T200000Z
DTEND:20251212T213000Z
X-MICROSOFT-CDO-ALLDAYEVENT:FALSE
SUMMARY:Holiday Cheer Open House & Craft Activity
DESCRIPTION:Celebrate the Season at Sterling Park!\n\n\n\nStep into the warmth of the holidays at our holiday cheer open house! Guest will create their own holiday centerpieces to take home\, enjoy seasonal treats\, and mingle with our residents for an afternoon filled with laughter\, joy\, and community cheer.
X-ALT-DESC;FMTTYPE=text/html:Celebrate the Season at Sterling Park!<br />\n<br />\nStep into the warmth of the holidays at our holiday cheer open house! Guest will create their own holiday centerpieces to take home\, enjoy seasonal treats\, and mingle with our residents for an afternoon filled with laughter\, joy\, and community cheer.<br />\n<br />\n&nbsp\;
LOCATION:35 1st Ave N Waite Park\, MN 56387 Activities Room on the 3rd Floor
UID:e.2754.12405
SEQUENCE:3
DTSTAMP:20260422T135530Z
URL:https://chambermaster.businesscentralmagazine.com/events/details/holiday-cheer-open-house-craft-activity-12405
END:VEVENT

END:VCALENDAR
