BEGIN:VCALENDAR
VERSION:2.0
PRODID:-//ChamberMaster//Event Calendar 2.0//EN
METHOD:PUBLISH
X-PUBLISHED-TTL:P3D
REFRESH-INTERVAL:P3D
CALSCALE:GREGORIAN
BEGIN:VEVENT
DTSTART:20250611T160000Z
DTEND:20250611T230000Z
X-MICROSOFT-CDO-ALLDAYEVENT:FALSE
SUMMARY:Hiring Event at ATS!
DESCRIPTION:Come and have an interview and a tour at Anderson Trucking Service on June 11th from 11am to 6:00pm!
X-ALT-DESC;FMTTYPE=text/html:Come and have an interview and a tour at Anderson Trucking Service on June 11th from 11am to 6:00pm!
LOCATION:Anderson Trucking Service 725 Opportunity Drive St. Cloud\, MN 56301
UID:e.2754.12206
SEQUENCE:3
DTSTAMP:20260423T024556Z
URL:https://chambermaster.businesscentralmagazine.com/events/details/hiring-event-at-ats-12206
END:VEVENT

END:VCALENDAR
