BEGIN:VCALENDAR
VERSION:2.0
PRODID:-//ChamberMaster//Event Calendar 2.0//EN
METHOD:PUBLISH
X-PUBLISHED-TTL:P3D
REFRESH-INTERVAL:P3D
CALSCALE:GREGORIAN
BEGIN:VEVENT
DTSTART:20250516T220000Z
DTEND:20250516T230000Z
X-MICROSOFT-CDO-ALLDAYEVENT:FALSE
SUMMARY:Heart Opening & Self Love Sound Bath
DESCRIPTION:Join us inside the tranquil setting of the Bella Vita Salt Cave for a guided sound bath focused on heart opening and self-love.\n\nThis specialty wellness experience blends the therapeutic benefits of dry salt therapy with the vibrational healing of crystal singing bowls. Guests will be guided through gentle sound frequencies that support emotional release\, stress relief\, and energetic balance specifically targeting the heart chakra.\n\nParticipants are encouraged to bring a journal\, cozy blanket\, or any personal items of comfort for this deeply restorative session.\n\nKey benefits include:\n\n? Emotional tension release\n\n? Nervous system regulation\n\n? Compassion cultivation\n\n? A guided return to inner calm and connection\n\nNote: Space is limited. Pre-registration is required. Gift cards\, coupons\, or promotional offers are not valid for this event.
X-ALT-DESC;FMTTYPE=text/html:<p>Join us inside the tranquil setting of the Bella Vita Salt Cave for a guided sound bath focused on heart opening and self-love.</p>\n\n<p>This specialty wellness experience blends the therapeutic benefits of dry salt therapy with the vibrational healing of crystal singing bowls. Guests will be guided through gentle sound frequencies that support emotional release\, stress relief\, and energetic balance&mdash\;specifically targeting the heart chakra.</p>\n\n<p>Participants are encouraged to bring a journal\, cozy blanket\, or any personal items of comfort for this deeply restorative session.</p>\n\n<p><strong>Key benefits include:</strong><br />\n? Emotional tension release<br />\n? Nervous system regulation<br />\n? Compassion cultivation<br />\n? A guided return to inner calm and connection</p>\n\n<p><strong>Note:</strong> Space is limited. Pre-registration is required. Gift cards\, coupons\, or promotional offers are not valid for this event.</p>\n
LOCATION:Bella Vita Salt Caves 707 West St. Germain St. St. Cloud\, MN 56301
UID:e.2754.11557
SEQUENCE:3
DTSTAMP:20260423T041151Z
URL:https://chambermaster.businesscentralmagazine.com/events/details/heart-opening-self-love-sound-bath-11557
END:VEVENT

END:VCALENDAR
