BEGIN:VCALENDAR
VERSION:2.0
PRODID:-//ChamberMaster//Event Calendar 2.0//EN
METHOD:PUBLISH
X-PUBLISHED-TTL:P3D
REFRESH-INTERVAL:P3D
CALSCALE:GREGORIAN
BEGIN:VEVENT
DTSTART:20260605T233000Z
DTEND:20260606T003000Z
X-MICROSOFT-CDO-ALLDAYEVENT:FALSE
SUMMARY:Healing Sound Bath Workshop
DESCRIPTION:Healing Sound Bath Workshop Bri's Lodge invites you to a deeply nourishing sound bath guided by the tones and vibrations of crystal singing bowls. Each session is intuitive and unique   sometimes soft and dreamy\, sometimes powerful and transformative   always offering exactly what your soul needs. This isn't a scripted experience. The facilitator tunes into the energy of the room   the tension\, the pain\, the stuck emotions\, the longing for clarity and peace. The bowls guide the group gently through release\, meeting you where you are and carrying you where you need to go. This is your space to simply be   to receive\, soften\, and let go of what you've been carrying. What to Know: No experience necessary -Yoga mats and cushions provided (bring a pillow or blanket for extra comfort or your own yoga mat\, if preferred) Guided intuitively through energy healing\, somatic awareness\, and deep listening. The facilitator is not a certified sound healer   please honor your body and inner knowing.
X-ALT-DESC;FMTTYPE=text/html:Healing Sound Bath Workshop Bri&rsquo\;s Lodge invites you to a deeply nourishing sound bath guided by the tones and vibrations of crystal singing bowls. Each session is intuitive and unique &mdash\; sometimes soft and dreamy\, sometimes powerful and transformative &mdash\; always offering exactly what your soul needs. This isn&rsquo\;t a scripted experience. The facilitator tunes into the energy of the room &mdash\; the tension\, the pain\, the stuck emotions\, the longing for clarity and peace. The bowls guide the group gently through release\, meeting you where you are and carrying you where you need to go. This is your space to simply be &mdash\; to receive\, soften\, and let go of what you&rsquo\;ve been carrying. What to Know: No experience necessary -Yoga mats and cushions provided (bring a pillow or blanket for extra comfort or your own yoga mat\, if preferred) Guided intuitively through energy healing\, somatic awareness\, and deep listening. The facilitator is not a certified sound healer &mdash\; please honor your body and inner knowing.
LOCATION:Bri's Lodge 406 Great Oak Drive Waite Park\, MN 56387
UID:e.2754.12625
SEQUENCE:3
DTSTAMP:20260422T102950Z
URL:https://chambermaster.businesscentralmagazine.com/events/details/healing-sound-bath-workshop-12625
END:VEVENT

END:VCALENDAR
