BEGIN:VCALENDAR
VERSION:2.0
PRODID:-//ChamberMaster//Event Calendar 2.0//EN
METHOD:PUBLISH
X-PUBLISHED-TTL:P3D
REFRESH-INTERVAL:P3D
CALSCALE:GREGORIAN
BEGIN:VEVENT
DTSTART:20250611T170000Z
DTEND:20250611T180000Z
X-MICROSOFT-CDO-ALLDAYEVENT:FALSE
SUMMARY:Great Somali Restaurant (10) Lunch
DESCRIPTION:The Next Great Somali Restaurant (10) lunch will be held on Wednesday\, June 11\, 12:00 pm at Hormud Restaurant and Coffee Shop located at 3360 W. Division Street\, St. Cloud.  (behind Burger King and next to Harbor Freight.)    The owner Ibrahim promises us great food and a great experience.  Also\, several Somali community members will talk to us and we can ask any questions.  Again\, this lunch experience continues to serve as a cultural exchange and is totally fun!    See you there!  \n\n \n\nHeads Up: We are now asking everyone to RSVP in advance for food considerations.  Please RSVP  text to Nick at 320-249-2134.\n\n \n\nThanks and we will see everybody there on June 11.
X-ALT-DESC;FMTTYPE=text/html:<br />\n<span style="font-size:16px\;">The Next Great Somali Restaurant (10) lunch will be held&nbsp\;on Wednesday\, June 11\, 12:00 pm&nbsp\;at Hormud Restaurant and&nbsp\;Coffee Shop located at&nbsp\;3360 W. Division Street\, St. Cloud.&nbsp\; (behind Burger King and next to Harbor Freight.)&nbsp\; &nbsp\; The owner Ibrahim promises us great food and a great experience.&nbsp\; Also\, several Somali community members will talk to us and we can ask any questions.&nbsp\; Again\, this lunch experience continues to serve as a cultural exchange and is totally&nbsp\;fun!&nbsp\; &nbsp\; See you there!&nbsp\;&nbsp\;<br />\n&nbsp\;<br />\nHeads Up:&nbsp\;We are now asking everyone&nbsp\;to RSVP in advance for food considerations<strong>.&nbsp\; Please RSVP&nbsp\; text to Nick at&nbsp\;320-249-2134.</strong><br />\n&nbsp\;<br />\nThanks and we will see everybody there&nbsp\;on June 11.</span><br />\n&nbsp\;
LOCATION:Hormud Restaurant and Coffee Shop 3360 W. Division Street\, St. Cloud
UID:e.2754.12279
SEQUENCE:3
DTSTAMP:20260423T024559Z
URL:https://chambermaster.businesscentralmagazine.com/events/details/great-somali-restaurant-10-lunch-12279
END:VEVENT

END:VCALENDAR
