BEGIN:VCALENDAR
VERSION:2.0
PRODID:-//ChamberMaster//Event Calendar 2.0//EN
METHOD:PUBLISH
X-PUBLISHED-TTL:P3D
REFRESH-INTERVAL:P3D
CALSCALE:GREGORIAN
BEGIN:VEVENT
DTSTART:20251119T153000Z
DTEND:20251119T190000Z
X-MICROSOFT-CDO-ALLDAYEVENT:FALSE
SUMMARY:Government Affairs "On the Road"- 11/19/25
DESCRIPTION:Government Affairs "On the Road" Event!\n\n\n\nWednesday\, November 19\n\n9:30 a.m. - 1:00 p.m.\n\nOmni Viking Lakes Hotel\n\n2611 Nordic Way\n\nEagan\, MN 55121\n\n\n\nIn lieu of the monthly Government Affairs meeting\, Julie encourages you to attend the Minnesota Chamber's 2025 Economic Summit at a discounted rate of $150. If you would like to attend this event\, you must register through Julie Lunning.  Details to the event below. \n\n\n\nMinnesota's competitive edge is slipping under the weight of rising costs\, regulation and workforce challenges. At this year's Economic Summit\, the Minnesota Chamber will launch a bold new effort to put the private sector at the forefront of Minnesota's economic turnaround.\n\n \n\nHear industry experts break down the data\, challenges and opportunities defining Minnesota's economy   and learn how innovation and private-sector leadership can accelerate growth and strengthen our state for decades to come. Contact Julie Lunning to register at a reduced rate of $150 per person.\n\n\n\nEvent highlights include:\n\n\n	Andersen Chairman and CEO Chris Galvin will provide real-world examples of how this nation-leading Minnesota company is innovating for the future.\n	The 2026 Business Benchmarks report will set the targets for Minnesota's economic comeback clear measurements and goals our state must reach to restore the strength and innovation that once defined us.\n	Hear from leading executives as they share practical ways research and development can drive innovation and Minnesota's economic growth.\n	Learn more how the Minnesota Chamber will launch a bold new effort to put the private sector at the forefront of Minnesota's economic turnaround.
X-ALT-DESC;FMTTYPE=text/html:<p><br />\n<strong><span style="font-size:18px\;">Government Affairs &quot\;On the Road&quot\; Event!</span></strong><br />\n<br />\n<strong>Wednesday\, November 19</strong><br />\n9:30 a.m. - 1:00 p.m.<br />\nOmni Viking Lakes Hotel<br />\n2611 Nordic Way<br />\nEagan\, MN 55121<br />\n<br />\nIn lieu of the monthly Government Affairs meeting\, Julie encourages you to attend the Minnesota Chamber&#39\;s 2025 Economic Summit at a discounted rate of $150.&nbsp\;If you would like to attend this event\, you must<strong> register through Julie Lunning.</strong>&nbsp\; Details to the event below.&nbsp\;<br />\n<br />\n<strong>Minnesota&rsquo\;s competitive edge is slipping under the weight of rising costs\, regulation and workforce challenges. At this year&rsquo\;s Economic Summit\, the Minnesota Chamber will launch a bold new effort to put the private sector at the forefront of Minnesota&rsquo\;s economic turnaround.</strong><br />\n&nbsp\;<br />\nHear industry experts break down the data\, challenges and opportunities defining Minnesota&rsquo\;s economy &ndash\; and learn how innovation and private-sector leadership can accelerate growth and strengthen our state for decades to come. <strong><a href="mailto:jlunning@StCloudAreaChamber.com?subject=MN%20Chamber%202025%20Economic%20Summit%20Registrtion"><span style="color:#0000FF\;">Contact Julie Lunning to register at a reduced rate of $150 per person.</span></a></strong><br />\n<br />\n<strong>Event highlights include:</strong></p>\n\n<ul>\n	<li>Andersen Chairman and CEO Chris Galvin will provide real-world examples of how this nation-leading Minnesota company is innovating for the future.</li>\n	<li>The 2026 Business Benchmarks report will set the targets for Minnesota&rsquo\;s economic comeback&mdash\;clear measurements and goals our state must reach to restore the strength and innovation that once defined us.</li>\n	<li>Hear from leading executives as they share practical ways research and development can drive innovation and Minnesota&rsquo\;s economic growth.</li>\n	<li>Learn more how the Minnesota Chamber will launch a bold new effort to put the private sector at the forefront of Minnesota&rsquo\;s economic turnaround.</li>\n</ul>\n
LOCATION:Omni Viking Lakes Hotel 2611 Nordic Way Eagan\, MN 55121
UID:e.2754.12412
SEQUENCE:3
DTSTAMP:20260422T191945Z
URL:https://chambermaster.businesscentralmagazine.com/events/details/government-affairs-on-the-road-11-19-25-12412
END:VEVENT

END:VCALENDAR
