BEGIN:VCALENDAR
VERSION:2.0
PRODID:-//ChamberMaster//Event Calendar 2.0//EN
METHOD:PUBLISH
X-PUBLISHED-TTL:P3D
REFRESH-INTERVAL:P3D
CALSCALE:GREGORIAN
BEGIN:VEVENT
DTSTART:20211215T223000Z
DTEND:20211216T003000Z
X-MICROSOFT-CDO-ALLDAYEVENT:FALSE
SUMMARY:Government Affairs Holiday Social 2021
DESCRIPTION:The Government Affairs Division of the St. Cloud Area Chamber of Commerce is comprised of business people and volunteers who have a passion for issues and activities at all levels of government.  Locally\, statewide\, and nationally\, they serve as advocates for all Chamber members.  Join us at our regular meetings on the third Wednesday of the month at 7:30 - 9:00 a.m. Topics are different each month.  Any Chamber member with interest in government is welcome to attend.  No registration is necessary for the regular Wednesday meetings.\n\n\n\nDECEMBER MEETING DETAILS:\n\nNo December General Meeting. \n\n\n\nJoin Us for An Evening of Celebration\n\nGovernment Affairs Holiday Social\n\nWednesday\, December 15\n\n4:30 PM   6:30 PM\n\nPioneer Place on Fifth   2nd Floor\n\n\n\n \n\nThere is no need to register for this event.
X-ALT-DESC;FMTTYPE=text/html:<div style="FONT-FAMILY: Arial">The Government Affairs Division of the St. Cloud Area Chamber of Commerce is comprised of business people and volunteers who have a passion for issues and activities at all levels of government.&nbsp\; Locally\, statewide\, and nationally\, they serve as advocates for all Chamber members.&nbsp\;&nbsp\;Join us at our regular meetings on the third Wednesday of the month at 7:30&nbsp\;- 9:00 a.m.&nbsp\;Topics&nbsp\;are different each month.&nbsp\;&nbsp\;Any Chamber member with interest in government is welcome to attend.&nbsp\; No registration is necessary for the regular Wednesday meetings.<br />\n<br />\n<span style="color:#008000\;"><u><strong>DECEMBER MEETING DETAILS:</strong></u></span><br />\n<span style="font-family:arial\,sans-serif\;"><span style="font-size:10.0pt\;"><span style="color:#008000\;"><b>No December General Meeting.&nbsp\;</b></span></span></span><br />\n<br />\n<span style="color:#008000\;"><strong style="color: rgb(0\, 0\, 128)\;">Join Us for An Evening of Celebration<br />\nGovernment Affairs Holiday Social<br />\nWednesday\, December 15<br />\n4:30 PM &ndash\; 6:30 PM<br />\nPioneer Place on Fifth &ndash\; 2<sup>nd</sup>&nbsp\;Floor</strong></span><br />\n<br />\n<span style="font-family:arial\,sans-serif\;"><span style="font-size:10.0pt\;"><span style="color:#000000\;">&nbsp\;</span><br />\n<span style="color:#FF0000\;"><em><strong>There is no need to register for this event.&nbsp\;</strong></em></span></span></span></div>\n
LOCATION:Pioneer Place on Fifth - 2nd Floor 22 5th Ave S St. Cloud\, MN 56301-3618
UID:e.2754.8182
SEQUENCE:3
DTSTAMP:20260425T224224Z
URL:https://chambermaster.businesscentralmagazine.com/events/details/government-affairs-holiday-social-2021-8182
END:VEVENT

END:VCALENDAR
