BEGIN:VCALENDAR
VERSION:2.0
PRODID:-//ChamberMaster//Event Calendar 2.0//EN
METHOD:PUBLISH
X-PUBLISHED-TTL:P3D
REFRESH-INTERVAL:P3D
CALSCALE:GREGORIAN
BEGIN:VEVENT
DTSTART;VALUE=DATE:20250430
DTEND;VALUE=DATE:20250501
TRANSP:TRANSPARENT
X-MICROSOFT-CDO-ALLDAYEVENT:TRUE
SUMMARY:Good Shepherd Foundation ~ Shepherd Tours - Perfect Wedding Play
DESCRIPTION:Join Shepherd Tours for a day at the Sidekick Theatre for the PERFECT WEDDING performance.\n\n"The big day gone hilariously wrong! This fast-moving comedy produces an endless series of excuses\, lies\, confusions and false confessions right up to the unexpected happy end."  - The Daily Mail\n\n\n\n Invite your Family and Friends\, All Are Welcome!
X-ALT-DESC;FMTTYPE=text/html:<p style="text-align:center">J<strong>oin Shepherd Tours for a day at the Sidekick Theatre for the PERFECT WEDDING performance.</strong></p>\n\n<p style="text-align:center"><strong><em>&ldquo\;The big day gone hilariously wrong! This fast-moving comedy produces an endless series of excuses\, lies\, confusions and false confessions right up to the unexpected happy end.&rdquo\;</em>&nbsp\;&nbsp\;- The Daily Mail<br />\n<br />\n&nbsp\;Invite your Family and Friends\, All Are Welcome!&nbsp\;</strong></p>\n
LOCATION:Your trip will include transportation\, lunch\, and a show. Pre-Purchased Tickets are Required to Board Bus. We will depart from Shepherd Oaks Entrance at Good Shepherd at 9:30 a.m.
UID:e.2754.11471
SEQUENCE:3
DTSTAMP:20260423T053413Z
URL:https://chambermaster.businesscentralmagazine.com/events/details/good-shepherd-foundation-shepherd-tours-perfect-wedding-play-11471
END:VEVENT

END:VCALENDAR
