BEGIN:VCALENDAR
VERSION:2.0
PRODID:-//ChamberMaster//Event Calendar 2.0//EN
METHOD:PUBLISH
X-PUBLISHED-TTL:P3D
REFRESH-INTERVAL:P3D
CALSCALE:GREGORIAN
BEGIN:VEVENT
DTSTART;VALUE=DATE:20250612
DTEND;VALUE=DATE:20250613
TRANSP:TRANSPARENT
X-MICROSOFT-CDO-ALLDAYEVENT:TRUE
SUMMARY:Good Shepherd Foundation ~ Shepherd Tours - Twins Game
DESCRIPTION:Join Shepherd Tours for a day at the ballpark\n\nMinnesota Twins vs Texas Rangers \n\n\n\n\n\n Invite your Family and Friends\, All Are Welcome!
X-ALT-DESC;FMTTYPE=text/html:<p style="text-align:center"><strong><span style="font-size:12px"><span style="font-size:14px"><span style="font-family:arial\,helvetica\,sans-serif">J</span>oin Shepherd Tours for <span style="color:rgb(0\, 0\, 0)">a day at the ballpark</span></span></span></strong></p>\n\n<p style="text-align:center"><span style="font-size:14px"><strong><em>Minnesota Twins vs Texas Rangers&nbsp\;</em><br />\n<br />\n<br />\n&nbsp\;Invite your Family and Friends\, All Are Welcome!&nbsp\;</strong></span></p>\n
LOCATION:Your trip will include transportation\, Game and Unlimited Concessions Pre-Purchased Tickets are Required to Board Bus. We will depart from Shepherd Oaks Entrance at Good Shepherd at 9:00 a.m.
UID:e.2754.11473
SEQUENCE:3
DTSTAMP:20260423T025330Z
URL:https://chambermaster.businesscentralmagazine.com/events/details/good-shepherd-foundation-shepherd-tours-perfect-wedding-play-06-12-2025-11473
END:VEVENT

END:VCALENDAR
