BEGIN:VCALENDAR
VERSION:2.0
PRODID:-//ChamberMaster//Event Calendar 2.0//EN
METHOD:PUBLISH
X-PUBLISHED-TTL:P3D
REFRESH-INTERVAL:P3D
CALSCALE:GREGORIAN
BEGIN:VEVENT
DTSTART;VALUE=DATE:20250811
DTEND;VALUE=DATE:20250812
TRANSP:TRANSPARENT
X-MICROSOFT-CDO-ALLDAYEVENT:TRUE
SUMMARY:Good Shepherd Foundation ~ 40th Annual Golf Tournament
DESCRIPTION:40th Annual Golf Tournament \n\nDon't worry if you're busy\, haven't golfed in years\, or perhaps never played our tournament has something for everyone! We welcome both in-person and virtual participants for a day of fun.\n\n\n\nThe funds raised during our annual golf tournament are crucial to the Foundation's ability to support Good Shepherd's Aging Community\, helping them live gracefully in their later years.
X-ALT-DESC;FMTTYPE=text/html:<p style="text-align:center"><strong><em><span style="font-family:arial\,helvetica\,sans-serif"><span style="font-size:14px">40th Annual Golf Tournament&nbsp\;</span></span></em></strong></p>\n\n<p style="text-align:center"><span style="font-size:12px"><span style="font-family:arial\,helvetica\,sans-serif"><strong>Don&rsquo\;t worry if you&#39\;re busy\, haven&rsquo\;t golfed in years\, or perhaps&nbsp\;never played&mdash\;our tournament has something for everyone! We welcome both in-person and virtual participants for a day of fun.</strong><br />\n<br />\n<span style="color:rgb(0\, 0\, 0)">T<strong>he funds raised during our annual golf tournament are crucial to the Foundation&rsquo\;s ability to support Good Shepherd&rsquo\;s Aging Community\, helping them live gracefully in their later years.</strong></span></span></span></p>\n\n<p style="text-align:center">&nbsp\;</p>\n\n<p style="text-align:center">&nbsp\;</p>\n\n<p style="text-align:center"><br />\n<br />\n&nbsp\;</p>\n
LOCATION:Sponsorships Available No matter how you participate\, your support benefits the older adults we serve\, with options for customized FUND CHOICES and various SPONSORSHIP levels to offer flexibility in your giving.
UID:e.2754.11474
SEQUENCE:3
DTSTAMP:20260422T234810Z
URL:https://chambermaster.businesscentralmagazine.com/events/details/good-shepherd-foundation-39th-annual-golf-tournament-11474
END:VEVENT

END:VCALENDAR
