BEGIN:VCALENDAR
VERSION:2.0
PRODID:-//ChamberMaster//Event Calendar 2.0//EN
METHOD:PUBLISH
X-PUBLISHED-TTL:P3D
REFRESH-INTERVAL:P3D
CALSCALE:GREGORIAN
BEGIN:VEVENT
DTSTART;VALUE=DATE:19970811
DTEND;VALUE=DATE:19970812
TRANSP:TRANSPARENT
X-MICROSOFT-CDO-ALLDAYEVENT:TRUE
SUMMARY:Golf Open Hospitality Sponsorships
DESCRIPTION:
X-ALT-DESC;FMTTYPE=text/html:
LOCATION:
UID:e.2754.563
SEQUENCE:3
DTSTAMP:20260422T181853Z
URL:https://chambermaster.businesscentralmagazine.com/events/details/golf-open-hospitality-sponsorships-08-11-1997-563
END:VEVENT

END:VCALENDAR
