BEGIN:VCALENDAR
VERSION:2.0
PRODID:-//ChamberMaster//Event Calendar 2.0//EN
METHOD:PUBLISH
X-PUBLISHED-TTL:P3D
REFRESH-INTERVAL:P3D
CALSCALE:GREGORIAN
BEGIN:VEVENT
DTSTART;VALUE=DATE:19960812
DTEND;VALUE=DATE:19960813
TRANSP:TRANSPARENT
X-MICROSOFT-CDO-ALLDAYEVENT:TRUE
SUMMARY:Golf Hole Sponsorship for 1996
DESCRIPTION:
X-ALT-DESC;FMTTYPE=text/html:
LOCATION:St. Cloud Country Club
UID:e.2754.521
SEQUENCE:3
DTSTAMP:20260423T122215Z
URL:https://chambermaster.businesscentralmagazine.com/events/details/golf-hole-sponsorship-for-1996-08-12-1996-521
END:VEVENT

END:VCALENDAR
