BEGIN:VCALENDAR
VERSION:2.0
PRODID:-//ChamberMaster//Event Calendar 2.0//EN
METHOD:PUBLISH
X-PUBLISHED-TTL:P3D
REFRESH-INTERVAL:P3D
CALSCALE:GREGORIAN
BEGIN:VEVENT
DTSTART;VALUE=DATE:19970401
DTEND;VALUE=DATE:19970402
TRANSP:TRANSPARENT
X-MICROSOFT-CDO-ALLDAYEVENT:TRUE
SUMMARY:Golf Hole Sponsorship 1997
DESCRIPTION:
X-ALT-DESC;FMTTYPE=text/html:
LOCATION:St. Cloud Country Club
UID:e.2754.552
SEQUENCE:3
DTSTAMP:20260423T001602Z
URL:https://chambermaster.businesscentralmagazine.com/events/details/golf-hole-sponsorship-1997-04-01-1997-552
END:VEVENT

END:VCALENDAR
