BEGIN:VCALENDAR
VERSION:2.0
PRODID:-//ChamberMaster//Event Calendar 2.0//EN
METHOD:PUBLISH
X-PUBLISHED-TTL:P3D
REFRESH-INTERVAL:P3D
CALSCALE:GREGORIAN
BEGIN:VEVENT
DTSTART:20250612T180000Z
DTEND:20250612T200000Z
X-MICROSOFT-CDO-ALLDAYEVENT:FALSE
SUMMARY:Garden Party on the patio!
DESCRIPTION:Come soak up the sunshine and discover what makes Talamore St. Cloud so special. Take a tour of our welcoming community\, meet our friendly staff and amazing residents\, enjoy some festive refreshments on the patio\, and explore the vibrant lifestyle and opportunities waiting for you at Talamore!
X-ALT-DESC;FMTTYPE=text/html:<p><span style="font-size:18px"><span style="font-family:tahoma"><span style="color:#FF0000"><strong>Come soak up the sunshine and discover what makes Talamore St. Cloud so special</strong>.</span> Take a tour of our welcoming community\, meet our friendly staff and amazing residents\, enjoy some festive refreshments on the patio\, and explore the vibrant lifestyle and opportunities waiting for you at Talamore!</span></span></p>\n
LOCATION:215 37th Ave. N\, St.Cloud MN 56303
UID:e.2754.12215
SEQUENCE:3
DTSTAMP:20260423T025153Z
URL:https://chambermaster.businesscentralmagazine.com/events/details/garden-party-on-the-patio-12215
END:VEVENT

END:VCALENDAR
