BEGIN:VCALENDAR
VERSION:2.0
PRODID:-//ChamberMaster//Event Calendar 2.0//EN
METHOD:PUBLISH
X-PUBLISHED-TTL:P3D
REFRESH-INTERVAL:P3D
CALSCALE:GREGORIAN
BEGIN:VEVENT
DTSTART:20230629T140000Z
DTEND:20230630T013000Z
X-MICROSOFT-CDO-ALLDAYEVENT:FALSE
SUMMARY:Fundraiser for Pregnancy Resource Center (PRC) at Nautical Bowls
DESCRIPTION:Join us at Nautical Bowls St. Cloud for a day to support Pregnancy Resource Center (PRC)! A portion of sales from this day will be donated to PRC! Enjoy a delicious\, nutritious meal & give back!
X-ALT-DESC;FMTTYPE=text/html:Join us at Nautical Bowls St. Cloud for a day to support Pregnancy Resource Center (PRC)!&nbsp\;A portion of sales from this day will be donated to PRC! Enjoy a delicious\, nutritious meal &amp\; give back!<br />\n&nbsp\;
LOCATION:305 5th Ave S. Suite 110\, St. Cloud\, MN 56301
UID:e.2754.10449
SEQUENCE:3
DTSTAMP:20260424T163411Z
URL:https://chambermaster.businesscentralmagazine.com/events/details/fundraiser-for-pregnancy-resource-center-prc-at-nautical-bowls-10449
END:VEVENT

END:VCALENDAR
