BEGIN:VCALENDAR
VERSION:2.0
PRODID:-//ChamberMaster//Event Calendar 2.0//EN
METHOD:PUBLISH
X-PUBLISHED-TTL:P3D
REFRESH-INTERVAL:P3D
CALSCALE:GREGORIAN
BEGIN:VEVENT
DTSTART:20250603T120000Z
DTEND:20250603T140000Z
X-MICROSOFT-CDO-ALLDAYEVENT:FALSE
SUMMARY:Fuel for Good Event
DESCRIPTION:Join us from 7-9 a.m. on June 3 at the St. Cloud Financial Credit Union St. Cloud branch for a warm cup of coffee and a meaningful cause. This free event supports SCFCU's Eunice Adjei as she raises money to support the TriUnity Foundation as part of her Dancing With Our Stars campaign!\n\n\n\nThis event is a great opportunity to network\, support a great cause and learn from Sarah Line from Boredroom Breakouts on how to use fear as fuel in your life and career and how it can be a helpful tool.\n\n\n\nSchedule of Events:\n\n\n\n- 7-7:30 a.m.   Networking\n\n- 7:30-8:30 a.m.   Presentation from Sarah Line of Boredroom Breakouts with discussion to follow\n\n- 8:30-9 a.m.   Continued networking\n\n\n\nIf you're unable to attend\, you can still support Eunice Adjei and the TriUnity Foundation by clicking here.
X-ALT-DESC;FMTTYPE=text/html:<br />\n<span style="color:rgba(0\, 0\, 0\, 0.9)\; font-family:-apple-system\,system-ui\,blinkmacsystemfont\,segoe ui\,roboto\,helvetica neue\,fira sans\,ubuntu\,oxygen\,oxygen sans\,cantarell\,droid sans\,apple color emoji\,segoe ui emoji\,segoe ui emoji\,segoe ui symbol\,lucida grande\,helvetica\,arial\,sans-serif\; font-size:14px">Join us from 7-9 a.m. on June 3 at the St. Cloud Financial Credit Union St. Cloud branch for a warm cup of coffee and a meaningful cause. This free event supports SCFCU&rsquo\;s Eunice Adjei as she raises money to support the TriUnity Foundation as part of her Dancing With Our Stars campaign!</span><br />\n<br />\n<span style="color:rgba(0\, 0\, 0\, 0.9)\; font-family:-apple-system\,system-ui\,blinkmacsystemfont\,segoe ui\,roboto\,helvetica neue\,fira sans\,ubuntu\,oxygen\,oxygen sans\,cantarell\,droid sans\,apple color emoji\,segoe ui emoji\,segoe ui emoji\,segoe ui symbol\,lucida grande\,helvetica\,arial\,sans-serif\; font-size:14px">This event is a great opportunity to network\, support a great cause and learn from Sarah Line from Boredroom Breakouts on how to use fear as fuel in your life and career and how it can be a helpful tool.</span><br />\n<br />\n<span style="color:rgba(0\, 0\, 0\, 0.9)\; font-family:-apple-system\,system-ui\,blinkmacsystemfont\,segoe ui\,roboto\,helvetica neue\,fira sans\,ubuntu\,oxygen\,oxygen sans\,cantarell\,droid sans\,apple color emoji\,segoe ui emoji\,segoe ui emoji\,segoe ui symbol\,lucida grande\,helvetica\,arial\,sans-serif\; font-size:14px">Schedule of Events:</span><br />\n<br />\n<span style="color:rgba(0\, 0\, 0\, 0.9)\; font-family:-apple-system\,system-ui\,blinkmacsystemfont\,segoe ui\,roboto\,helvetica neue\,fira sans\,ubuntu\,oxygen\,oxygen sans\,cantarell\,droid sans\,apple color emoji\,segoe ui emoji\,segoe ui emoji\,segoe ui symbol\,lucida grande\,helvetica\,arial\,sans-serif\; font-size:14px">- 7-7:30 a.m. &mdash\; Networking</span><br />\n<span style="color:rgba(0\, 0\, 0\, 0.9)\; font-family:-apple-system\,system-ui\,blinkmacsystemfont\,segoe ui\,roboto\,helvetica neue\,fira sans\,ubuntu\,oxygen\,oxygen sans\,cantarell\,droid sans\,apple color emoji\,segoe ui emoji\,segoe ui emoji\,segoe ui symbol\,lucida grande\,helvetica\,arial\,sans-serif\; font-size:14px">- 7:30-8:30 a.m. &mdash\; Presentation from Sarah Line of Boredroom Breakouts with discussion to follow</span><br />\n<span style="color:rgba(0\, 0\, 0\, 0.9)\; font-family:-apple-system\,system-ui\,blinkmacsystemfont\,segoe ui\,roboto\,helvetica neue\,fira sans\,ubuntu\,oxygen\,oxygen sans\,cantarell\,droid sans\,apple color emoji\,segoe ui emoji\,segoe ui emoji\,segoe ui symbol\,lucida grande\,helvetica\,arial\,sans-serif\; font-size:14px">- 8:30-9 a.m. &mdash\; Continued networking</span><br />\n<br />\n<span style="color:rgba(0\, 0\, 0\, 0.9)\; font-family:-apple-system\,system-ui\,blinkmacsystemfont\,segoe ui\,roboto\,helvetica neue\,fira sans\,ubuntu\,oxygen\,oxygen sans\,cantarell\,droid sans\,apple color emoji\,segoe ui emoji\,segoe ui emoji\,segoe ui symbol\,lucida grande\,helvetica\,arial\,sans-serif\; font-size:14px">If you&rsquo\;re unable to attend\, you can still support Eunice Adjei and the TriUnity Foundation by <a href="https://www.communitygiving.org/fund/womens-fund-presents-2025-tri-unity-foundation-eunice-adjei-nick-benner/"><strong>clicking here.</strong></a></span>
LOCATION:3030 1st St S\, St Cloud\, Minnesota\, US\, 56301 St. Cloud Financial Credit Union St. Cloud Branch
UID:e.2754.12205
SEQUENCE:3
DTSTAMP:20260423T024529Z
URL:https://chambermaster.businesscentralmagazine.com/events/details/fuel-for-good-event-12205
END:VEVENT

END:VCALENDAR
