BEGIN:VCALENDAR
VERSION:2.0
PRODID:-//ChamberMaster//Event Calendar 2.0//EN
METHOD:PUBLISH
X-PUBLISHED-TTL:P3D
REFRESH-INTERVAL:P3D
CALSCALE:GREGORIAN
BEGIN:VEVENT
DTSTART:20240921T150000Z
DTEND:20240921T210000Z
X-MICROSOFT-CDO-ALLDAYEVENT:FALSE
SUMMARY:Free Community Book Swap @ Fuzzy Loon Designs
DESCRIPTION:HOW TO JOIN:\n\n\n	Drop off 3 books in store prior to the event. Please pick books that you loved reading and want to share with someone else. \n	Attended the event on September 21st from 10am-4pm and pick out 3 new to you books! \n	Children's Book\, Middle Grade and Young Adult Books are included! \n	During the event we will allow small groups of people access into the book area at a time to browse to keep it organized and fair. Access will be given based on the order you arrive. \n	While you wait we will have some free activities such as a build your own bookmark station\, a community art canvas and more.\n\n\nBooks can be dropped off anytime leading up to the day before the event! Thank you for helping make this a fun FREE event for the community! \n\n \n\n*To make this a success it is important to please bring books you truly loved reading and want to share. We hope that people donate with thoughtfulness and have fun! This is not a place to dump unwanted old books you did not like reading.* \n\n \n\nAny extra donations of books you enjoyed are welcome and can be dropped off during regular store hours! Monday-Friday 10am-6pm and Saturdays 10am-4pm\n\n\n\nMore info and RSVP Here
X-ALT-DESC;FMTTYPE=text/html:<div><strong>HOW TO JOIN:</strong></div>\n\n<ul>\n	<li>Drop off 3 books in store prior to the event. Please pick books that you loved reading and want to share with someone else.&nbsp\;</li>\n	<li>Attended the event on September 21st from 10am-4pm and pick out 3 new to you books!&nbsp\;</li>\n	<li>Children&#39\;s Book\, Middle Grade and Young Adult Books are included!&nbsp\;</li>\n	<li>During the event we will allow small groups of people access into the book area at a time to browse to keep it organized and fair. Access will be given based on the order you arrive.&nbsp\;</li>\n	<li>While you wait we will have some free activities such as a build your own bookmark station\, a community art canvas and more.</li>\n</ul>\n\n<div>Books can be dropped off anytime leading up to the day before the event! Thank you for helping make this a fun FREE event for the community!&nbsp\;<br />\n&nbsp\;</div>\n\n<div>*To make this a success it is important to please bring books you truly loved reading and want to share. We hope that people donate with thoughtfulness and have fun! This is not a place to dump unwanted old books you did not like reading.*&nbsp\;<br />\n&nbsp\;</div>\n\n<div>Any extra donations of books you enjoyed are welcome and can be dropped off during regular store hours! Monday-Friday 10am-6pm and Saturdays 10am-4pm<br />\n<br />\n<strong><a href="https://www.facebook.com/share/74uBoX6SxqCdNa9P/" target="_blank">More info and RSVP Here</a></strong></div>\n
LOCATION:Fuzzy Loon Designs 806 Sundial Drive Waite Park\, MN 56387
UID:e.2754.11180
SEQUENCE:3
DTSTAMP:20260423T182949Z
URL:https://chambermaster.businesscentralmagazine.com/events/details/free-community-book-swap-fuzzy-loon-designs-11180
END:VEVENT

END:VCALENDAR
