BEGIN:VCALENDAR
VERSION:2.0
PRODID:-//ChamberMaster//Event Calendar 2.0//EN
METHOD:PUBLISH
X-PUBLISHED-TTL:P3D
REFRESH-INTERVAL:P3D
CALSCALE:GREGORIAN
BEGIN:VEVENT
DTSTART:20250623T160000Z
DTEND:20250623T230000Z
X-MICROSOFT-CDO-ALLDAYEVENT:FALSE
SUMMARY:Fore the Scouts Golf Scramble
DESCRIPTION:Join us for a fun day on the beautiful St Cloud County Club golf course and help support local Scouting & Exploring programs.\n\nThe fee of $125 includes 18 holes of golf\, cart\, picnic lunch\, dinner\, and prizes!  Currently registered Scouters can golf at the discounted rate of $100.\n\nPut together your own team of four or register as an individual.\n\nParticipate in the putting contest and other chances at great prizes throughout the course.  \n\n10am - Registration Opens\n\n11am - Lunch\n\nNoon - Tournament Play Begins\n\nDinner to follow.
X-ALT-DESC;FMTTYPE=text/html:<p>Join us for a fun day on the&nbsp\;beautiful St Cloud County Club golf&nbsp\;course and help support local Scouting &amp\; Exploring programs.</p>\n\n<p>The fee of&nbsp\;$125&nbsp\;includes 18 holes of golf\, cart\, picnic lunch\, dinner\, and prizes!&nbsp\; Currently registered Scouters can golf at the discounted rate of $100.</p>\n\n<p>Put together your own team of four or register as an individual.</p>\n\n<p>Participate in the putting contest and other chances at great prizes throughout the course.&nbsp\;&nbsp\;</p>\n\n<p>10am - Registration Opens</p>\n\n<p>11am - Lunch</p>\n\n<p>Noon - Tournament Play Begins</p>\n\n<p>Dinner to follow.&nbsp\;&nbsp\;</p>\n
LOCATION:St Cloud Country Club (301 Montrose Rd\, St Cloud)
UID:e.2754.11485
SEQUENCE:3
DTSTAMP:20260423T024528Z
URL:https://chambermaster.businesscentralmagazine.com/events/details/fore-the-scouts-golf-scramble-11485
END:VEVENT

END:VCALENDAR
