BEGIN:VCALENDAR
VERSION:2.0
PRODID:-//ChamberMaster//Event Calendar 2.0//EN
METHOD:PUBLISH
X-PUBLISHED-TTL:P3D
REFRESH-INTERVAL:P3D
CALSCALE:GREGORIAN
BEGIN:VEVENT
DTSTART:20260726T193000Z
DTEND:20260726T220000Z
X-MICROSOFT-CDO-ALLDAYEVENT:FALSE
SUMMARY:Fly with Hope - Memorial Butterfly Release
DESCRIPTION:The 2026 Butterfly Release event will be held at Munsinger Gardens on July 26nd. Gathering in the gardens begins around 1:30 and we will release the butterflies together at 2:30. \n\nDon't forget your lawn chair!\n\nIn the case of rain\, we will have you pick up your butterflies from 2:00-3:00\, in the greenhouse and then you will release on your own.\n\n\n\nAll proceeds go towards resident care and operating expenses. With your support\, we're able to continue providing incredible end-of-life care to many other families.
X-ALT-DESC;FMTTYPE=text/html:<p>The 2026 Butterfly Release event will be held at&nbsp\;Munsinger Gardens&nbsp\;on July 26nd. Gathering in the gardens begins around 1:30 and we will release the butterflies together at 2:30.&nbsp\;</p>\n\n<p><u>Don&#39\;t forget your lawn chair!</u></p>\n\n<p>In the case of rain\, we will have you pick up your butterflies from 2:00-3:00\, in the greenhouse and then you will release on your own.<br />\n<br />\nAll proceeds go towards resident care and operating expenses. With your support\, we&#39\;re able to continue providing incredible end-of-life care to many other families.</p>\n
LOCATION:Munsinger Gardens
UID:e.2754.12665
SEQUENCE:3
DTSTAMP:20260422T120512Z
URL:https://chambermaster.businesscentralmagazine.com/events/details/fly-with-hope-memorial-butterfly-release-12665
END:VEVENT

END:VCALENDAR
