BEGIN:VCALENDAR
VERSION:2.0
PRODID:-//ChamberMaster//Event Calendar 2.0//EN
METHOD:PUBLISH
X-PUBLISHED-TTL:P3D
REFRESH-INTERVAL:P3D
CALSCALE:GREGORIAN
BEGIN:VEVENT
DTSTART;VALUE=DATE:19970206
DTEND;VALUE=DATE:19970207
TRANSP:TRANSPARENT
X-MICROSOFT-CDO-ALLDAYEVENT:TRUE
SUMMARY:Feb. Quarterly Volunteer Leadership Upda
DESCRIPTION:
X-ALT-DESC;FMTTYPE=text/html:
LOCATION:St. Cloud Technical College
UID:e.2754.545
SEQUENCE:3
DTSTAMP:20260423T031607Z
URL:https://chambermaster.businesscentralmagazine.com/events/details/feb-quarterly-volunteer-leadership-upda-02-06-1997-545
END:VEVENT

END:VCALENDAR
