BEGIN:VCALENDAR
VERSION:2.0
PRODID:-//ChamberMaster//Event Calendar 2.0//EN
METHOD:PUBLISH
X-PUBLISHED-TTL:P3D
REFRESH-INTERVAL:P3D
CALSCALE:GREGORIAN
BEGIN:VEVENT
DTSTART:19970220T060000Z
DTEND:19970220T060000Z
X-MICROSOFT-CDO-ALLDAYEVENT:FALSE
SUMMARY:Feb. 20\, 1997 Bes. Enhanc. Sem. (Beyond the Word)
DESCRIPTION:Feb. 20\, 1997 Bes. Enhanc. Sem. (Beyond the Word)
X-ALT-DESC;FMTTYPE=text/html:Feb. 20\, 1997 Bes. Enhanc. Sem. (Beyond the Word)
LOCATION:Michael's Steakhouse
UID:e.2754.2222
SEQUENCE:3
DTSTAMP:20260423T030948Z
URL:https://chambermaster.businesscentralmagazine.com/events/details/feb-20-1997-bes-enhanc-sem-beyond-the-word-02-20-1997-2222
END:VEVENT

END:VCALENDAR
