BEGIN:VCALENDAR
VERSION:2.0
PRODID:-//ChamberMaster//Event Calendar 2.0//EN
METHOD:PUBLISH
X-PUBLISHED-TTL:P3D
REFRESH-INTERVAL:P3D
CALSCALE:GREGORIAN
BEGIN:VEVENT
DTSTART:19970213T060000Z
DTEND:19970213T060000Z
X-MICROSOFT-CDO-ALLDAYEVENT:FALSE
SUMMARY:Feb. 13\, 1997 Ind. Tour @ Bermo Inc.
DESCRIPTION:Feb. 13\, 1997 Ind. Tour @ Bermo Inc.
X-ALT-DESC;FMTTYPE=text/html:Feb. 13\, 1997 Ind. Tour @ Bermo Inc.
LOCATION:Bermo Inc.
UID:e.2754.2229
SEQUENCE:3
DTSTAMP:20260423T031612Z
URL:https://chambermaster.businesscentralmagazine.com/events/details/feb-13-1997-ind-tour-bermo-inc-02-13-1997-2229
END:VEVENT

END:VCALENDAR
