BEGIN:VCALENDAR
VERSION:2.0
PRODID:-//ChamberMaster//Event Calendar 2.0//EN
METHOD:PUBLISH
X-PUBLISHED-TTL:P3D
REFRESH-INTERVAL:P3D
CALSCALE:GREGORIAN
BEGIN:VEVENT
DTSTART;VALUE=DATE:19990223
DTEND;VALUE=DATE:19990224
TRANSP:TRANSPARENT
X-MICROSOFT-CDO-ALLDAYEVENT:TRUE
SUMMARY:Farmshow 1999
DESCRIPTION:
X-ALT-DESC;FMTTYPE=text/html:
LOCATION:
UID:e.2754.639
SEQUENCE:3
DTSTAMP:20260419T144154Z
URL:https://chambermaster.businesscentralmagazine.com/events/details/farmshow-1999-02-23-1999-639
END:VEVENT

END:VCALENDAR
