BEGIN:VCALENDAR
VERSION:2.0
PRODID:-//ChamberMaster//Event Calendar 2.0//EN
METHOD:PUBLISH
X-PUBLISHED-TTL:P3D
REFRESH-INTERVAL:P3D
CALSCALE:GREGORIAN
BEGIN:VEVENT
DTSTART:19990223T060000Z
DTEND:19990225T060000Z
X-MICROSOFT-CDO-ALLDAYEVENT:FALSE
SUMMARY:Farmshow 1999
DESCRIPTION:Farmshow 1999
X-ALT-DESC;FMTTYPE=text/html:Farmshow 1999
LOCATION:
UID:e.2754.2327
SEQUENCE:3
DTSTAMP:20260419T144035Z
URL:https://chambermaster.businesscentralmagazine.com/events/details/farmshow-1999-02-23-1999-2327
END:VEVENT

END:VCALENDAR
