BEGIN:VCALENDAR
VERSION:2.0
PRODID:-//ChamberMaster//Event Calendar 2.0//EN
METHOD:PUBLISH
X-PUBLISHED-TTL:P3D
REFRESH-INTERVAL:P3D
CALSCALE:GREGORIAN
BEGIN:VEVENT
DTSTART;VALUE=DATE:19980821
DTEND;VALUE=DATE:19980822
TRANSP:TRANSPARENT
X-MICROSOFT-CDO-ALLDAYEVENT:TRUE
SUMMARY:Expo '98 Participant Registration
DESCRIPTION:
X-ALT-DESC;FMTTYPE=text/html:
LOCATION:
UID:e.2754.607
SEQUENCE:3
DTSTAMP:20260419T232027Z
URL:https://chambermaster.businesscentralmagazine.com/events/details/expo-98-participant-registration-08-21-1998-607
END:VEVENT

END:VCALENDAR
