BEGIN:VCALENDAR
VERSION:2.0
PRODID:-//ChamberMaster//Event Calendar 2.0//EN
METHOD:PUBLISH
X-PUBLISHED-TTL:P3D
REFRESH-INTERVAL:P3D
CALSCALE:GREGORIAN
BEGIN:VEVENT
DTSTART:19980821T050000Z
DTEND:19980822T050000Z
X-MICROSOFT-CDO-ALLDAYEVENT:FALSE
SUMMARY:Expo '98 Participant Registration
DESCRIPTION:Expo '98 Participant Registration
X-ALT-DESC;FMTTYPE=text/html:Expo '98 Participant Registration
LOCATION:
UID:e.2754.2299
SEQUENCE:3
DTSTAMP:20260419T232136Z
URL:https://chambermaster.businesscentralmagazine.com/events/details/expo-98-participant-registration-08-21-1998-2299
END:VEVENT

END:VCALENDAR
