BEGIN:VCALENDAR
VERSION:2.0
PRODID:-//ChamberMaster//Event Calendar 2.0//EN
METHOD:PUBLISH
X-PUBLISHED-TTL:P3D
REFRESH-INTERVAL:P3D
CALSCALE:GREGORIAN
BEGIN:VEVENT
DTSTART;VALUE=DATE:19970822
DTEND;VALUE=DATE:19970823
TRANSP:TRANSPARENT
X-MICROSOFT-CDO-ALLDAYEVENT:TRUE
SUMMARY:EXPO '97 participant registration
DESCRIPTION:
X-ALT-DESC;FMTTYPE=text/html:
LOCATION:Crossroads Shopping Center
UID:e.2754.557
SEQUENCE:3
DTSTAMP:20260422T181535Z
URL:https://chambermaster.businesscentralmagazine.com/events/details/expo-97-participant-registration-08-22-1997-557
END:VEVENT

END:VCALENDAR
