BEGIN:VCALENDAR
VERSION:2.0
PRODID:-//ChamberMaster//Event Calendar 2.0//EN
METHOD:PUBLISH
X-PUBLISHED-TTL:P3D
REFRESH-INTERVAL:P3D
CALSCALE:GREGORIAN
BEGIN:VEVENT
DTSTART:19970822T050000Z
DTEND:19970823T050000Z
X-MICROSOFT-CDO-ALLDAYEVENT:FALSE
SUMMARY:EXPO '97 participant registration
DESCRIPTION:EXPO '97 participant registration
X-ALT-DESC;FMTTYPE=text/html:EXPO '97 participant registration
LOCATION:Crossroads Shopping Center
UID:e.2754.2250
SEQUENCE:3
DTSTAMP:20260422T181635Z
URL:https://chambermaster.businesscentralmagazine.com/events/details/expo-97-participant-registration-08-22-1997-2250
END:VEVENT

END:VCALENDAR
