BEGIN:VCALENDAR
VERSION:2.0
PRODID:-//ChamberMaster//Event Calendar 2.0//EN
METHOD:PUBLISH
X-PUBLISHED-TTL:P3D
REFRESH-INTERVAL:P3D
CALSCALE:GREGORIAN
BEGIN:VEVENT
DTSTART:19960119T060000Z
DTEND:19960119T060000Z
X-MICROSOFT-CDO-ALLDAYEVENT:FALSE
SUMMARY:Executive Board Meeting 1/19/96
DESCRIPTION:Executive Board Meeting 1/19/96
X-ALT-DESC;FMTTYPE=text/html:Executive Board Meeting 1/19/96
LOCATION:Michael's Restaurant
UID:e.2754.2209
SEQUENCE:3
DTSTAMP:20260423T233704Z
URL:https://chambermaster.businesscentralmagazine.com/events/details/executive-board-meeting-1-19-96-01-19-1996-2209
END:VEVENT

END:VCALENDAR
