BEGIN:VCALENDAR
VERSION:2.0
PRODID:-//ChamberMaster//Event Calendar 2.0//EN
METHOD:PUBLISH
X-PUBLISHED-TTL:P3D
REFRESH-INTERVAL:P3D
CALSCALE:GREGORIAN
BEGIN:VEVENT
DTSTART:20260225T000000Z
DTEND:20260225T020000Z
X-MICROSOFT-CDO-ALLDAYEVENT:FALSE
SUMMARY:Europe Your Way - MCV\, Member First and Trafalgar
DESCRIPTION:Join AAA and our preferred travel partners   Trafalgar\, Member First & AAA Member Choice Vacations   for an exclusive event showcasing European vacations designed with AAA Members in mind.\n\n\n\nDiscover thoughtfully crafted itineraries\, insider experiences and special offers available only through AAA and combinable with your member benefits. Whether you're dreaming of iconic cities or hidden gems\, this event will help you start planning your perfect European getaway.\n\n\n\nSpace is limited! RSVP today. Simply scan the QR code for early February event dates and locations near you. Attendees will automatically be entered for a chance to win a $500 Delta Air Lines  voucher for air travel!*
X-ALT-DESC;FMTTYPE=text/html:<div style="text-align: center\;">Join AAA and our preferred travel partners &mdash\; Trafalgar\, Member First &amp\; AAA Member Choice Vacations &mdash\; for an exclusive event showcasing European vacations designed with AAA Members in mind.<br />\n<br />\nDiscover thoughtfully crafted itineraries\, insider experiences and special offers available only through AAA and combinable with your member benefits. Whether you&rsquo\;re dreaming of iconic cities or hidden gems\, this event will help you start planning your perfect European getaway.<br />\n<br />\nSpace is limited! RSVP today. Simply scan the QR code for early February event dates and locations near you. Attendees will automatically be entered for a chance to win a $500 Delta Air Lines&reg\; voucher for air travel!*</div>\n
LOCATION:River's Edge Convention Center 10 4th Avenue South St. Cloud\, MN 56301
UID:e.2754.12571
SEQUENCE:3
DTSTAMP:20260422T105358Z
URL:https://chambermaster.businesscentralmagazine.com/events/details/europe-your-way-mcv-member-first-and-trafalgar-12571
END:VEVENT

END:VCALENDAR
