BEGIN:VCALENDAR
VERSION:2.0
PRODID:-//ChamberMaster//Event Calendar 2.0//EN
METHOD:PUBLISH
X-PUBLISHED-TTL:P3D
REFRESH-INTERVAL:P3D
CALSCALE:GREGORIAN
BEGIN:VEVENT
DTSTART:20260212T140000Z
DTEND:20260215T000000Z
X-MICROSOFT-CDO-ALLDAYEVENT:FALSE
SUMMARY:Estate Sale-Hosted by Smart Organizing Solutions (SOS)
DESCRIPTION:This Estate Sale is hosted by SOS   Smart Organizing Solutions\, we are a professional cleaning and organizing business. We help our downsizing clients by selling their items by hosting an estate sale or selling their items at our consignment shop   The SOS Thrift Store.\n\nFurniture!! Couches\, dining room table\,\n\nEZ-Access handicap ramp\, Christmas d cor\,\n\nGlass d cor\, dishware\, pots & pans\, exercise\n\nequipment\, beds\, linens\, gardening tools & more!\n\nThe garage and main floor are full of great items
X-ALT-DESC;FMTTYPE=text/html:<span style="font-size:18px"><span style="font-family:arial\,helvetica\,sans-serif">This Estate Sale is hosted by SOS &ndash\; Smart Organizing Solutions\, we are a professional cleaning and organizing business. We help our downsizing clients by selling their items by hosting an estate sale or selling their items at our consignment shop &ndash\; The SOS Thrift Store.<br />\nFurniture!! Couches\, dining room table\,<br />\nEZ-Access handicap ramp\, Christmas d&eacute\;cor\,<br />\nGlass d&eacute\;cor\, dishware\, pots &amp\; pans\, exercise<br />\nequipment\, beds\, linens\, gardening tools &amp\; more!<br />\n<strong>The garage and main floor are full of great items</strong></span></span>
LOCATION:3537 Wildflower Rd St Cloud MN 56303
UID:e.2754.12570
SEQUENCE:3
DTSTAMP:20260422T105446Z
URL:https://chambermaster.businesscentralmagazine.com/events/details/estate-sale-hosted-by-smart-organizing-solutions-sos-02-12-2026-12570
END:VEVENT

END:VCALENDAR
