BEGIN:VCALENDAR
VERSION:2.0
PRODID:-//ChamberMaster//Event Calendar 2.0//EN
METHOD:PUBLISH
X-PUBLISHED-TTL:P3D
REFRESH-INTERVAL:P3D
CALSCALE:GREGORIAN
BEGIN:VEVENT
DTSTART:19971016T050000Z
DTEND:19971016T050000Z
X-MICROSOFT-CDO-ALLDAYEVENT:FALSE
SUMMARY:''Effective Conflict Management in the Workplace'' 10/16/97
DESCRIPTION:"Effective Conflict Management in the Workplace" 10/16/97
X-ALT-DESC;FMTTYPE=text/html:"Effective Conflict Management in the Workplace" 10/16/97
LOCATION:
UID:e.2754.2266
SEQUENCE:3
DTSTAMP:20260422T151521Z
URL:https://chambermaster.businesscentralmagazine.com/events/details/effective-conflict-management-in-the-workplace-10-16-97-10-16-1997-2266
END:VEVENT

END:VCALENDAR
