BEGIN:VCALENDAR
VERSION:2.0
PRODID:-//ChamberMaster//Event Calendar 2.0//EN
METHOD:PUBLISH
X-PUBLISHED-TTL:P3D
REFRESH-INTERVAL:P3D
CALSCALE:GREGORIAN
BEGIN:VEVENT
DTSTART;VALUE=DATE:19971016
DTEND;VALUE=DATE:19971017
TRANSP:TRANSPARENT
X-MICROSOFT-CDO-ALLDAYEVENT:TRUE
SUMMARY:''Effective Conflict Management in the Wo
DESCRIPTION:
X-ALT-DESC;FMTTYPE=text/html:
LOCATION:
UID:e.2754.580
SEQUENCE:3
DTSTAMP:20260422T152300Z
URL:https://chambermaster.businesscentralmagazine.com/events/details/effective-conflict-management-in-the-wo-10-16-1997-580
END:VEVENT

END:VCALENDAR
