BEGIN:VCALENDAR
VERSION:2.0
PRODID:-//ChamberMaster//Event Calendar 2.0//EN
METHOD:PUBLISH
X-PUBLISHED-TTL:P3D
REFRESH-INTERVAL:P3D
CALSCALE:GREGORIAN
BEGIN:VEVENT
DTSTART:20250501T120000Z
DTEND:20250601T020000Z
X-MICROSOFT-CDO-ALLDAYEVENT:FALSE
SUMMARY:Donation Month at Tommy's Express
DESCRIPTION:Tommy's Express Car Wash is excited to support Kindred Spirits Rescue throughout May! This fantastic organization is dedicated to nurturing animal lives through compassion. They provide the necessary care and find new homes for pets in our community.\n\n \n\nA portion of #1 WORKS washes sold in May will be donated directly to Kindred Spirits Rescue. You can help make a difference in our community at Tommy's Express Car Wash.\n\n \n\nWe need your help! Purchase a #1 WORKS wash and support Kindred Spirits Rescue in May. \n\n \n\n17 2nd Ave N\, Waite Park\, MN 56387
X-ALT-DESC;FMTTYPE=text/html:<div><span style="color:inherit\; font-family:inherit\; font-size:inherit">Tommy&#39\;s Express Car Wash is excited to support Kindred Spirits Rescue throughout May! This fantastic organization is dedicated to nurturing animal lives through compassion. They provide the necessary care and find new homes for pets in our community.</span><br />\n&nbsp\;</div>\n\n<div><span style="color:inherit\; font-family:inherit\; font-size:inherit">A portion of #1 WORKS washes sold in May will be donated directly to Kindred Spirits Rescue. You can help make a difference in our community at Tommy&#39\;s Express Car Wash.</span><br />\n&nbsp\;</div>\n\n<div><span style="color:inherit\; font-family:inherit\; font-size:inherit">We need your help! Purchase a #1 WORKS wash and support Kindred Spirits Rescue in May.&nbsp\;</span><br />\n&nbsp\;</div>\n\n<div><span style="color:inherit\; font-family:inherit\; font-size:inherit">17 2nd Ave N\, Waite Park\, MN 56387</span></div>\n
LOCATION:17 2nd Ave N\, Waite Park\, MN 56387
UID:e.2754.11555
SEQUENCE:3
DTSTAMP:20260423T041043Z
URL:https://chambermaster.businesscentralmagazine.com/events/details/donation-month-at-tommy-s-express-11555
END:VEVENT

END:VCALENDAR
