BEGIN:VCALENDAR
VERSION:2.0
PRODID:-//ChamberMaster//Event Calendar 2.0//EN
METHOD:PUBLISH
X-PUBLISHED-TTL:P3D
REFRESH-INTERVAL:P3D
CALSCALE:GREGORIAN
BEGIN:VEVENT
DTSTART;VALUE=DATE:19961104
DTEND;VALUE=DATE:19961105
TRANSP:TRANSPARENT
X-MICROSOFT-CDO-ALLDAYEVENT:TRUE
SUMMARY:Diversity Training on November 4
DESCRIPTION:
X-ALT-DESC;FMTTYPE=text/html:
LOCATION:St. Cloud Technical College
UID:e.2754.526
SEQUENCE:3
DTSTAMP:20260423T074158Z
URL:https://chambermaster.businesscentralmagazine.com/events/details/diversity-training-on-november-4-11-04-1996-526
END:VEVENT

END:VCALENDAR
