BEGIN:VCALENDAR
VERSION:2.0
PRODID:-//ChamberMaster//Event Calendar 2.0//EN
METHOD:PUBLISH
X-PUBLISHED-TTL:P3D
REFRESH-INTERVAL:P3D
CALSCALE:GREGORIAN
BEGIN:VEVENT
DTSTART;VALUE=DATE:19961108
DTEND;VALUE=DATE:19961109
TRANSP:TRANSPARENT
X-MICROSOFT-CDO-ALLDAYEVENT:TRUE
SUMMARY:Diversity Training November 8\, 1996
DESCRIPTION:
X-ALT-DESC;FMTTYPE=text/html:
LOCATION:St. Cloud Technical College
UID:e.2754.529
SEQUENCE:3
DTSTAMP:20260423T074542Z
URL:https://chambermaster.businesscentralmagazine.com/events/details/diversity-training-november-8-1996-11-08-1996-529
END:VEVENT

END:VCALENDAR
