BEGIN:VCALENDAR
VERSION:2.0
PRODID:-//ChamberMaster//Event Calendar 2.0//EN
METHOD:PUBLISH
X-PUBLISHED-TTL:P3D
REFRESH-INTERVAL:P3D
CALSCALE:GREGORIAN
BEGIN:VEVENT
DTSTART;VALUE=DATE:19961101
DTEND;VALUE=DATE:19961102
TRANSP:TRANSPARENT
X-MICROSOFT-CDO-ALLDAYEVENT:TRUE
SUMMARY:Diversity Council New Projects committee
DESCRIPTION:
X-ALT-DESC;FMTTYPE=text/html:
LOCATION:
UID:e.2754.532
SEQUENCE:3
DTSTAMP:20260423T073924Z
URL:https://chambermaster.businesscentralmagazine.com/events/details/diversity-council-new-projects-committee-11-01-1996-532
END:VEVENT

END:VCALENDAR
