BEGIN:VCALENDAR
VERSION:2.0
PRODID:-//ChamberMaster//Event Calendar 2.0//EN
METHOD:PUBLISH
X-PUBLISHED-TTL:P3D
REFRESH-INTERVAL:P3D
CALSCALE:GREGORIAN
BEGIN:VEVENT
DTSTART:19961212T060000Z
DTEND:19961212T060000Z
X-MICROSOFT-CDO-ALLDAYEVENT:FALSE
SUMMARY:Dec. 12\, 1996 Ind. Tour @ Rheaume's House of Lettering
DESCRIPTION:Dec. 12\, 1996 Ind. Tour @ Rheaume's House of Lettering
X-ALT-DESC;FMTTYPE=text/html:Dec. 12\, 1996 Ind. Tour @ Rheaume's House of Lettering
LOCATION:Rheaume's House of Lettering
UID:e.2754.2227
SEQUENCE:3
DTSTAMP:20260423T061715Z
URL:https://chambermaster.businesscentralmagazine.com/events/details/dec-12-1996-ind-tour-rheaume-s-house-of-lettering-12-12-1996-2227
END:VEVENT

END:VCALENDAR
