BEGIN:VCALENDAR
VERSION:2.0
PRODID:-//ChamberMaster//Event Calendar 2.0//EN
METHOD:PUBLISH
X-PUBLISHED-TTL:P3D
REFRESH-INTERVAL:P3D
CALSCALE:GREGORIAN
BEGIN:VEVENT
DTSTART:20250322T130000Z
DTEND:20250322T200000Z
X-MICROSOFT-CDO-ALLDAYEVENT:FALSE
SUMMARY:D-CAN's PICKLEBALL TOURNAMENT & FUNDRAISER
DESCRIPTION:Join us for the ultimate Pickleball Tournament and Fundraiser\, where players of all skill levels come together to showcase their talents and love for the game. This is an unranked tournament.\n\nWe will have activities going on throughout the day and will have respite available from 8AM-12PM\, so bring your loved one living with dementia along.
X-ALT-DESC;FMTTYPE=text/html:<strong>Join us for the ultimate Pickleball Tournament and Fundraiser\, where players of all skill levels come together to showcase their talents and love for the game. This is an unranked tournament.<br />\nWe will have activities going on throughout the day and will have respite available from 8AM-12PM\, so bring your loved one living with dementia along.</strong>
LOCATION:Whitney Recreation Center 1529 Northway Drive\, St Cloud\, MN 56303
UID:e.2754.11429
SEQUENCE:3
DTSTAMP:20260423T071216Z
URL:https://chambermaster.businesscentralmagazine.com/events/details/d-can-s-pickleball-tournament-fundraiser-11429
END:VEVENT

END:VCALENDAR
