BEGIN:VCALENDAR
VERSION:2.0
PRODID:-//ChamberMaster//Event Calendar 2.0//EN
METHOD:PUBLISH
X-PUBLISHED-TTL:P3D
REFRESH-INTERVAL:P3D
CALSCALE:GREGORIAN
BEGIN:VEVENT
DTSTART;VALUE=DATE:19980915
DTEND;VALUE=DATE:19980916
TRANSP:TRANSPARENT
X-MICROSOFT-CDO-ALLDAYEVENT:TRUE
SUMMARY:Customer Service Training - September 15
DESCRIPTION:
X-ALT-DESC;FMTTYPE=text/html:
LOCATION:Chamber Presidents Room
UID:e.2754.602
SEQUENCE:3
DTSTAMP:20260419T214506Z
URL:https://chambermaster.businesscentralmagazine.com/events/details/customer-service-training-september-15-09-15-1998-602
END:VEVENT

END:VCALENDAR
